BEGIN:VCALENDAR
VERSION:2.0
PRODID:-//Académie de l&#039;immobilier - ECPv6.2.5//NONSGML v1.0//EN
CALSCALE:GREGORIAN
METHOD:PUBLISH
X-ORIGINAL-URL:https://academie-immo.lu
X-WR-CALDESC:Events for Académie de l&#039;immobilier
REFRESH-INTERVAL;VALUE=DURATION:PT1H
X-Robots-Tag:noindex
X-PUBLISHED-TTL:PT1H
BEGIN:VTIMEZONE
TZID:Europe/Paris
BEGIN:DAYLIGHT
TZOFFSETFROM:+0100
TZOFFSETTO:+0200
TZNAME:CEST
DTSTART:20240331T010000
END:DAYLIGHT
BEGIN:STANDARD
TZOFFSETFROM:+0200
TZOFFSETTO:+0100
TZNAME:CET
DTSTART:20241027T010000
END:STANDARD
END:VTIMEZONE
BEGIN:VEVENT
DTSTART;TZID=Europe/Paris:20241105T090000
DTEND;TZID=Europe/Paris:20241105T120000
DTSTAMP:20260420T233656
CREATED:20240409T135411Z
LAST-MODIFIED:20240409T135411Z
UID:3658-1730797200-1730808000@academie-immo.lu
SUMMARY:Les règles de majorité dans les assemblées générales (module avancé)
DESCRIPTION:  \nVous trouverez le descriptif de la formation ICI . \nInscriptions via le formulaire Inscription \, à renvoyer à l’adresse formations@academie-immo.lu 
URL:https://academie-immo.lu/event/les-regles-de-majorite-dans-les-assemblees-generales-module-avance/
LOCATION:Centre de formation Krakelshaff\, 448 ZAE Wolser F\, Bettembourg\, L-\, 3290\, Luxembourg
CATEGORIES:Agenda
ATTACH;FMTTYPE=image/png:https://academie-immo.lu/wp-content/uploads/2024/04/education-5600987_1280.png
END:VEVENT
BEGIN:VEVENT
DTSTART;TZID=Europe/Paris:20241105T130000
DTEND;TZID=Europe/Paris:20241105T150000
DTSTAMP:20260420T233656
CREATED:20240409T135242Z
LAST-MODIFIED:20240409T135628Z
UID:3656-1730811600-1730818800@academie-immo.lu
SUMMARY:La gestion de l’assemblée générale des copropriétaires (module avancé)
DESCRIPTION:  \nVous trouverez le descriptif de la formation ICI . \nInscriptions via le formulaire Inscription \, à renvoyer à l’adresse formations@academie-immo.lu 
URL:https://academie-immo.lu/event/la-gestion-de-lassemblee-generale-des-coproprietaires-module-avance/
LOCATION:Centre de formation Krakelshaff\, 448 ZAE Wolser F\, Bettembourg\, L-\, 3290\, Luxembourg
CATEGORIES:Agenda
ATTACH;FMTTYPE=image/png:https://academie-immo.lu/wp-content/uploads/2024/04/group-1962592_1280.png
END:VEVENT
END:VCALENDAR