BEGIN:VCALENDAR
VERSION:2.0
PRODID:-//Académie de l&#039;immobilier - ECPv6.2.5//NONSGML v1.0//EN
CALSCALE:GREGORIAN
METHOD:PUBLISH
X-WR-CALNAME:Académie de l&#039;immobilier
X-ORIGINAL-URL:https://academie-immo.lu
X-WR-CALDESC:Events for Académie de l&#039;immobilier
REFRESH-INTERVAL;VALUE=DURATION:PT1H
X-Robots-Tag:noindex
X-PUBLISHED-TTL:PT1H
BEGIN:VTIMEZONE
TZID:Europe/Paris
BEGIN:DAYLIGHT
TZOFFSETFROM:+0100
TZOFFSETTO:+0200
TZNAME:CEST
DTSTART:20240331T010000
END:DAYLIGHT
BEGIN:STANDARD
TZOFFSETFROM:+0200
TZOFFSETTO:+0100
TZNAME:CET
DTSTART:20241027T010000
END:STANDARD
END:VTIMEZONE
BEGIN:VEVENT
DTSTART;TZID=Europe/Paris:20241112T090000
DTEND;TZID=Europe/Paris:20241112T130000
DTSTAMP:20260420T233528
CREATED:20240329T134749Z
LAST-MODIFIED:20240705T125740Z
UID:3626-1731402000-1731416400@academie-immo.lu
SUMMARY:Déontologie professionnelle et conflits d’intérêts
DESCRIPTION:  \nVous trouverez le descriptif de la formation ICI . \nInscriptions via le formulaire Inscription \, à renvoyer à l’adresse formations@academie-immo.lu 
URL:https://academie-immo.lu/event/deontologie-professionnelle-et-conflits-dinterets-2/
LOCATION:Centre de formation Krakelshaff\, 448 ZAE Wolser F\, Bettembourg\, L-\, 3290\, Luxembourg
CATEGORIES:Agenda
ATTACH;FMTTYPE=image/png:https://academie-immo.lu/wp-content/uploads/2022/06/deontologie-pro-et-conflits-interets.png
END:VEVENT
END:VCALENDAR