BEGIN:VCALENDAR
VERSION:2.0
PRODID:-//Académie de l&#039;immobilier - ECPv6.2.5//NONSGML v1.0//EN
CALSCALE:GREGORIAN
METHOD:PUBLISH
X-WR-CALNAME:Académie de l&#039;immobilier
X-ORIGINAL-URL:https://academie-immo.lu
X-WR-CALDESC:Events for Académie de l&#039;immobilier
REFRESH-INTERVAL;VALUE=DURATION:PT1H
X-Robots-Tag:noindex
X-PUBLISHED-TTL:PT1H
BEGIN:VTIMEZONE
TZID:Europe/Paris
BEGIN:DAYLIGHT
TZOFFSETFROM:+0100
TZOFFSETTO:+0200
TZNAME:CEST
DTSTART:20240331T010000
END:DAYLIGHT
BEGIN:STANDARD
TZOFFSETFROM:+0200
TZOFFSETTO:+0100
TZNAME:CET
DTSTART:20241027T010000
END:STANDARD
END:VTIMEZONE
BEGIN:VEVENT
DTSTART;TZID=Europe/Paris:20240920T083000
DTEND;TZID=Europe/Paris:20240920T123000
DTSTAMP:20260421T070418
CREATED:20231102T102132Z
LAST-MODIFIED:20240322T143012Z
UID:3426-1726821000-1726835400@academie-immo.lu
SUMMARY:Contrats / compromis
DESCRIPTION:  \nVous trouverez le descriptif de la formation ICI . \nInscriptions via le formulaire Inscription \, à renvoyer à l’adresse formations@academie-immo.lu 
URL:https://academie-immo.lu/event/contrats-compromis/
LOCATION:Centre de formation Krakelshaff\, 448 ZAE Wolser F\, Bettembourg\, L-\, 3290\, Luxembourg
CATEGORIES:Agenda
ATTACH;FMTTYPE=image/jpeg:https://academie-immo.lu/wp-content/uploads/2022/06/scott-graham-OQMZwNd3ThU-unsplash-scaled.jpg
END:VEVENT
BEGIN:VEVENT
DTSTART;TZID=Europe/Paris:20240912T083000
DTEND;TZID=Europe/Paris:20240912T123000
DTSTAMP:20260421T070418
CREATED:20240702T062635Z
LAST-MODIFIED:20240705T084514Z
UID:3717-1726129800-1726144200@academie-immo.lu
SUMMARY:Arbeit in der Eigentumswohnung
DESCRIPTION:Die Beschreibung des Kurses finden Sie HIER . \nAnmeldungen über das Anmeldeformular\, bitte an die Adresse formations@academie-immo.lu zurücksenden \n 
URL:https://academie-immo.lu/event/arbeiten-in-der-eigentumswohnung/
LOCATION:Startlokal\, 20\, rue Fridhaff\, Erpeldange-sur-Sûre\, L-9148\, Luxembourg
CATEGORIES:Agenda
ATTACH;FMTTYPE=image/jpeg:https://academie-immo.lu/wp-content/uploads/2023/05/housebuilding-g5e92dfc74_1280.jpg
END:VEVENT
BEGIN:VEVENT
DTSTART;TZID=Europe/Paris:20240906T083000
DTEND;TZID=Europe/Paris:20240906T170000
DTSTAMP:20260421T070418
CREATED:20240329T095418Z
LAST-MODIFIED:20240705T130201Z
UID:3586-1725611400-1725642000@academie-immo.lu
SUMMARY:CPE Passeport énergétique
DESCRIPTION:Vous trouverez le descriptif de la formation ICI . \nInscriptions via le formulaire Inscription \, à renvoyer à l’adresse formations@academie-immo.lu 
URL:https://academie-immo.lu/event/cpe-passeport-energetique/
LOCATION:Centre de formation Krakelshaff\, 448 ZAE Wolser F\, Bettembourg\, L-\, 3290\, Luxembourg
CATEGORIES:Agenda
ATTACH;FMTTYPE=image/jpeg:https://academie-immo.lu/wp-content/uploads/2017/02/sungrow-emea-itv-MC5S6cU-unsplash-scaled.jpg
END:VEVENT
BEGIN:VEVENT
DTSTART;TZID=Europe/Paris:20240809T090000
DTEND;TZID=Europe/Paris:20240809T130000
DTSTAMP:20260421T070418
CREATED:20231102T101442Z
LAST-MODIFIED:20240705T125824Z
UID:3420-1723194000-1723208400@academie-immo.lu
SUMMARY:Déontologie professionnelle et conflits d’intérêts
DESCRIPTION:  \nVous trouverez le descriptif de la formation ICI . \n  \nInscriptions via le formulaire Inscription \, à renvoyer à l’adresse formations@academie-immo.lu 
URL:https://academie-immo.lu/event/deontologie-professionnelle-et-conflits-dinterets/
LOCATION:Centre de formation Krakelshaff\, 448 ZAE Wolser F\, Bettembourg\, L-\, 3290\, Luxembourg
CATEGORIES:Agenda
ATTACH;FMTTYPE=image/png:https://academie-immo.lu/wp-content/uploads/2022/06/deontologie-pro-et-conflits-interets.png
END:VEVENT
BEGIN:VEVENT
DTSTART;TZID=Europe/Paris:20240722T083000
DTEND;TZID=Europe/Paris:20240722T170000
DTSTAMP:20260421T070418
CREATED:20240328T140442Z
LAST-MODIFIED:20240705T125129Z
UID:3580-1721637000-1721667600@academie-immo.lu
SUMMARY:Communiquer dans des situations difficiles
DESCRIPTION:  \nVous trouverez le descriptif de la formation ICI . \nInscriptions via le formulaire Inscription \, à renvoyer à l’adresse formations@academie-immo.lu 
URL:https://academie-immo.lu/event/communiquer-dans-des-situations-difficiles-2/
LOCATION:Centre de formation Krakelshaff\, 448 ZAE Wolser F\, Bettembourg\, L-\, 3290\, Luxembourg
CATEGORIES:Agenda
ATTACH;FMTTYPE=image/jpeg:https://academie-immo.lu/wp-content/uploads/2023/05/image-2.jpeg
END:VEVENT
BEGIN:VEVENT
DTSTART;TZID=Europe/Paris:20240715T123000
DTEND;TZID=Europe/Paris:20240715T163000
DTSTAMP:20260421T070418
CREATED:20240328T140040Z
LAST-MODIFIED:20240328T140040Z
UID:3578-1721046600-1721061000@academie-immo.lu
SUMMARY:Les erreurs à ne pas faire en immobilier
DESCRIPTION:  \nVous trouverez le descriptif de la formation ICI . \nInscriptions via le formulaire Inscription \, à renvoyer à l’adresse formations@academie-immo.lu 
URL:https://academie-immo.lu/event/les-erreurs-a-ne-pas-faire-en-immobilier-2/
LOCATION:Centre de formation Krakelshaff\, 448 ZAE Wolser F\, Bettembourg\, L-\, 3290\, Luxembourg
CATEGORIES:Agenda
ATTACH;FMTTYPE=image/jpeg:https://academie-immo.lu/wp-content/uploads/2024/02/9276433.jpg
END:VEVENT
BEGIN:VEVENT
DTSTART;TZID=Europe/Paris:20240624T080000
DTEND;TZID=Europe/Paris:20240625T163000
DTSTAMP:20260421T070418
CREATED:20231102T132737Z
LAST-MODIFIED:20240417T064107Z
UID:3466-1719216000-1719333000@academie-immo.lu
SUMMARY:Premiers Secours - SESSION COMPLÈTE
DESCRIPTION:  \nVous trouverez le descriptif de la formation ICI . \nInscriptions via le formulaire Inscription \, à renvoyer à l’adresse formations@academie-immo.lu 
URL:https://academie-immo.lu/event/premiers-secours-2/
LOCATION:Centre de formation Krakelshaff\, 448 ZAE Wolser F\, Bettembourg\, L-\, 3290\, Luxembourg
CATEGORIES:Agenda
ATTACH;FMTTYPE=image/jpeg:https://academie-immo.lu/wp-content/uploads/2017/02/michel-e-fSO8pdTu8Pk-unsplash-scaled.jpg
END:VEVENT
BEGIN:VEVENT
DTSTART;TZID=Europe/Paris:20240620T083000
DTEND;TZID=Europe/Paris:20240620T123000
DTSTAMP:20260421T070418
CREATED:20231102T132619Z
LAST-MODIFIED:20231208T075855Z
UID:3464-1718872200-1718886600@academie-immo.lu
SUMMARY:Droit de la copropriété : organisation juridique
DESCRIPTION:  \nVous trouverez le descriptif de la formation ICI . \nInscriptions via le formulaire Inscription \, à renvoyer à l’adresse formations@academie-immo.lu 
URL:https://academie-immo.lu/event/droit-de-la-copropriete-organisation-juridique/
LOCATION:Centre de formation Krakelshaff\, 448 ZAE Wolser F\, Bettembourg\, L-\, 3290\, Luxembourg
CATEGORIES:Agenda
ATTACH;FMTTYPE=image/jpeg:https://academie-immo.lu/wp-content/uploads/2022/06/mikhail-pavstyuk-EKy2OTRPXdw-unsplash.jpg
END:VEVENT
BEGIN:VEVENT
DTSTART;TZID=Europe/Paris:20240618T083000
DTEND;TZID=Europe/Paris:20240618T123000
DTSTAMP:20260421T070418
CREATED:20231102T132429Z
LAST-MODIFIED:20231102T132429Z
UID:3462-1718699400-1718713800@academie-immo.lu
SUMMARY:Le contrat de bail résidentiel
DESCRIPTION:  \nVous trouverez le descriptif de la formation ICI . \nInscriptions via le formulaire Inscription \, à renvoyer à l’adresse formations@academie-immo.lu 
URL:https://academie-immo.lu/event/le-contrat-de-bail-residentiel-2/
LOCATION:Centre de formation Krakelshaff\, 448 ZAE Wolser F\, Bettembourg\, L-\, 3290\, Luxembourg
CATEGORIES:Agenda
ATTACH;FMTTYPE=image/jpeg:https://academie-immo.lu/wp-content/uploads/2022/06/romain-dancre-doplSDELX7E-unsplash-scaled.jpg
END:VEVENT
BEGIN:VEVENT
DTSTART;TZID=Europe/Paris:20240617T083000
DTEND;TZID=Europe/Paris:20240617T170000
DTSTAMP:20260421T070418
CREATED:20231102T132240Z
LAST-MODIFIED:20231102T132240Z
UID:3460-1718613000-1718643600@academie-immo.lu
SUMMARY:Maisons passives
DESCRIPTION:  \nVous trouverez le descriptif de la formation ICI . \nInscriptions via le formulaire Inscription \, à renvoyer à l’adresse formations@academie-immo.lu 
URL:https://academie-immo.lu/event/maisons-passives-2/
LOCATION:Centre de formation Krakelshaff\, 448 ZAE Wolser F\, Bettembourg\, L-\, 3290\, Luxembourg
CATEGORIES:Agenda
ATTACH;FMTTYPE=image/jpeg:https://academie-immo.lu/wp-content/uploads/2017/02/sungrow-emea-itv-MC5S6cU-unsplash-scaled.jpg
END:VEVENT
BEGIN:VEVENT
DTSTART;TZID=Europe/Paris:20240614T083000
DTEND;TZID=Europe/Paris:20240614T123000
DTSTAMP:20260421T070418
CREATED:20231102T101647Z
LAST-MODIFIED:20240209T091024Z
UID:3422-1718353800-1718368200@academie-immo.lu
SUMMARY:Gestion et prévention des déchets en immeuble résidentiel
DESCRIPTION:  \nVous trouverez le descriptif de la formation ICI . \n  \nInscriptions via le formulaire Inscription \, à renvoyer à l’adresse formations@academie-immo.lu 
URL:https://academie-immo.lu/event/gestion-et-prevention-des-dechets-en-immeuble-residentiel/
LOCATION:Centre de formation Krakelshaff\, 448 ZAE Wolser F\, Bettembourg\, L-\, 3290\, Luxembourg
CATEGORIES:Agenda
ATTACH;FMTTYPE=image/jpeg:https://academie-immo.lu/wp-content/uploads/2023/05/wheelie-bin-g275a9232d_1280.jpg
END:VEVENT
BEGIN:VEVENT
DTSTART;TZID=Europe/Paris:20240607T083000
DTEND;TZID=Europe/Paris:20240607T123000
DTSTAMP:20260421T070418
CREATED:20231102T132114Z
LAST-MODIFIED:20231208T075134Z
UID:3458-1717749000-1717763400@academie-immo.lu
SUMMARY:TVA logement ou taux super-réduit
DESCRIPTION:  \nVous trouverez le descriptif de la formation ICI . \nInscriptions via le formulaire Inscription \, à renvoyer à l’adresse formations@academie-immo.lu 
URL:https://academie-immo.lu/event/tva-logement-ou-taux-super-reduit/
LOCATION:Centre de formation Krakelshaff\, 448 ZAE Wolser F\, Bettembourg\, L-\, 3290\, Luxembourg
CATEGORIES:Agenda
ATTACH;FMTTYPE=image/jpeg:https://academie-immo.lu/wp-content/uploads/2022/06/scott-graham-OQMZwNd3ThU-unsplash-scaled.jpg
END:VEVENT
BEGIN:VEVENT
DTSTART;TZID=Europe/Paris:20240604T083000
DTEND;TZID=Europe/Paris:20240604T123000
DTSTAMP:20260421T070418
CREATED:20231102T131953Z
LAST-MODIFIED:20231102T131953Z
UID:3456-1717489800-1717504200@academie-immo.lu
SUMMARY:Contrats / Mandats
DESCRIPTION:  \nVous trouverez le descriptif de la formation ICI . \nInscriptions via le formulaire Inscription \, à renvoyer à l’adresse formations@academie-immo.lu 
URL:https://academie-immo.lu/event/contrats-mandats-2/
LOCATION:Centre de formation Krakelshaff\, 448 ZAE Wolser F\, Bettembourg\, L-\, 3290\, Luxembourg
CATEGORIES:Agenda
ATTACH;FMTTYPE=image/jpeg:https://academie-immo.lu/wp-content/uploads/2022/06/gabrielle-henderson-HJckKnwCXxQ-unsplash-scaled.jpg
END:VEVENT
BEGIN:VEVENT
DTSTART;TZID=Europe/Paris:20240530T083000
DTEND;TZID=Europe/Paris:20240530T170000
DTSTAMP:20260421T070418
CREATED:20231102T131748Z
LAST-MODIFIED:20231102T131748Z
UID:3454-1717057800-1717088400@academie-immo.lu
SUMMARY:Introduction à la gestion de projet
DESCRIPTION:  \nVous trouverez le descriptif de la formation ICI . \nInscriptions via le formulaire Inscription \, à renvoyer à l’adresse formations@academie-immo.lu 
URL:https://academie-immo.lu/event/introduction-a-la-gestion-de-projet/
LOCATION:Centre de formation Krakelshaff\, 448 ZAE Wolser F\, Bettembourg\, L-\, 3290\, Luxembourg
CATEGORIES:Agenda
ATTACH;FMTTYPE=image/jpeg:https://academie-immo.lu/wp-content/uploads/2023/05/office-g143d04d23_1280.jpg
END:VEVENT
BEGIN:VEVENT
DTSTART;TZID=Europe/Paris:20240523T083000
DTEND;TZID=Europe/Paris:20240523T170000
DTSTAMP:20260421T070418
CREATED:20231102T131352Z
LAST-MODIFIED:20240705T125204Z
UID:3450-1716453000-1716483600@academie-immo.lu
SUMMARY:Communiquer dans des situations difficiles
DESCRIPTION:  \nVous trouverez le descriptif de la formation ICI . \nInscriptions via le formulaire Inscription \, à renvoyer à l’adresse formations@academie-immo.lu 
URL:https://academie-immo.lu/event/communiquer-dans-des-situations-difficiles/
LOCATION:Centre de formation Krakelshaff\, 448 ZAE Wolser F\, Bettembourg\, L-\, 3290\, Luxembourg
CATEGORIES:Agenda
ATTACH;FMTTYPE=image/jpeg:https://academie-immo.lu/wp-content/uploads/2023/05/image-2.jpeg
END:VEVENT
BEGIN:VEVENT
DTSTART;TZID=Europe/Paris:20240522T084500
DTEND;TZID=Europe/Paris:20240522T124500
DTSTAMP:20260421T070418
CREATED:20231102T131606Z
LAST-MODIFIED:20240513T134143Z
UID:3452-1716367500-1716381900@academie-immo.lu
SUMMARY:Le contrat de bail de bureaux
DESCRIPTION:  \nVous trouverez le descriptif de la formation ICI . \nInscriptions via le formulaire Inscription \, à renvoyer à l’adresse formations@academie-immo.lu 
URL:https://academie-immo.lu/event/le-contrat-de-bail-de-bureaux/
LOCATION:Centre de formation Krakelshaff\, 448 ZAE Wolser F\, Bettembourg\, L-\, 3290\, Luxembourg
CATEGORIES:Agenda
ATTACH;FMTTYPE=image/jpeg:https://academie-immo.lu/wp-content/uploads/2022/06/van-tay-media-TFFn3BYLc5s-unsplash-scaled.jpg
END:VEVENT
BEGIN:VEVENT
DTSTART;TZID=Europe/Paris:20240517T083000
DTEND;TZID=Europe/Paris:20240517T123000
DTSTAMP:20260421T070418
CREATED:20231102T111843Z
LAST-MODIFIED:20231102T111843Z
UID:3444-1715934600-1715949000@academie-immo.lu
SUMMARY:Types de bâtisses / Défauts de construction
DESCRIPTION:  \nVous trouverez le descriptif de la formation ICI . \nInscriptions via le formulaire Inscription \, à renvoyer à l’adresse formations@academie-immo.lu 
URL:https://academie-immo.lu/event/types-de-batisses-defauts-de-construction/
LOCATION:Centre de formation Krakelshaff\, 448 ZAE Wolser F\, Bettembourg\, L-\, 3290\, Luxembourg
CATEGORIES:Agenda
ATTACH;FMTTYPE=image/jpeg:https://academie-immo.lu/wp-content/uploads/2022/05/daniel-mccullough-HtBlQdxfG9k-unsplash-scaled.jpg
END:VEVENT
BEGIN:VEVENT
DTSTART;TZID=Europe/Paris:20240516T083000
DTEND;TZID=Europe/Paris:20240516T170000
DTSTAMP:20260421T070418
CREATED:20231102T111613Z
LAST-MODIFIED:20240705T125514Z
UID:3442-1715848200-1715878800@academie-immo.lu
SUMMARY:Comprendre et pratiquer les réseaux sociaux
DESCRIPTION:  \n  \nVous trouverez le descriptif de la formation ICI . \nInscriptions via le formulaire Inscription \, à renvoyer à l’adresse formations@academie-immo.lu 
URL:https://academie-immo.lu/event/comprendre-et-pratiquer-les-reseaux-sociaux/
LOCATION:Centre de formation Krakelshaff\, 448 ZAE Wolser F\, Bettembourg\, L-\, 3290\, Luxembourg
CATEGORIES:Agenda
ATTACH;FMTTYPE=image/png:https://academie-immo.lu/wp-content/uploads/2024/03/Capture-decran-2024-03-22-a-13.29.48.png
END:VEVENT
BEGIN:VEVENT
DTSTART;TZID=Europe/Paris:20240425T084500
DTEND;TZID=Europe/Paris:20240425T171500
DTSTAMP:20260421T070418
CREATED:20231102T111333Z
LAST-MODIFIED:20231102T111333Z
UID:3440-1714034700-1714065300@academie-immo.lu
SUMMARY:VEFA
DESCRIPTION:  \nVous trouverez le descriptif de la formation ICI . \nInscriptions via le formulaire Inscription \, à renvoyer à l’adresse formations@academie-immo.lu 
URL:https://academie-immo.lu/event/vefa/
LOCATION:Centre de formation Krakelshaff\, 448 ZAE Wolser F\, Bettembourg\, L-\, 3290\, Luxembourg
CATEGORIES:Agenda
END:VEVENT
BEGIN:VEVENT
DTSTART;TZID=Europe/Paris:20240423T083000
DTEND;TZID=Europe/Paris:20240423T123000
DTSTAMP:20260421T070418
CREATED:20231102T105636Z
LAST-MODIFIED:20240319T132310Z
UID:3438-1713861000-1713875400@academie-immo.lu
SUMMARY:Études de rentabilité - FORMATION COMPLÈTE
DESCRIPTION:  \nVous trouverez le descriptif de la formation ICI . \nInscriptions via le formulaire Inscription \, à renvoyer à l’adresse formations@academie-immo.lu 
URL:https://academie-immo.lu/event/etudes-de-rentabilite/
LOCATION:Centre de formation Krakelshaff\, 448 ZAE Wolser F\, Bettembourg\, L-\, 3290\, Luxembourg
CATEGORIES:Agenda
ATTACH;FMTTYPE=image/jpeg:https://academie-immo.lu/wp-content/uploads/2022/06/mediamodifier-I3HPUolh5hA-unsplash-scaled.jpg
END:VEVENT
BEGIN:VEVENT
DTSTART;TZID=Europe/Paris:20240418T083000
DTEND;TZID=Europe/Paris:20240418T170000
DTSTAMP:20260421T070418
CREATED:20231102T105438Z
LAST-MODIFIED:20240705T125620Z
UID:3436-1713429000-1713459600@academie-immo.lu
SUMMARY:Introduction au Marketing Digital
DESCRIPTION:  \nVous trouverez le descriptif de la formation ICI . \nInscriptions via le formulaire Inscription \, à renvoyer à l’adresse formations@academie-immo.lu 
URL:https://academie-immo.lu/event/introduction-au-marketing-digital-2/
LOCATION:Centre de formation Krakelshaff\, 448 ZAE Wolser F\, Bettembourg\, L-\, 3290\, Luxembourg
CATEGORIES:Agenda
ATTACH;FMTTYPE=image/png:https://academie-immo.lu/wp-content/uploads/2024/04/education-5600987_1280.png
END:VEVENT
BEGIN:VEVENT
DTSTART;TZID=Europe/Paris:20240409T083000
DTEND;TZID=Europe/Paris:20240409T170000
DTSTAMP:20260421T070418
CREATED:20231102T105241Z
LAST-MODIFIED:20231102T105241Z
UID:3434-1712651400-1712682000@academie-immo.lu
SUMMARY:Techniques de construction
DESCRIPTION:  \nVous trouverez le descriptif de la formation ICI . \nInscriptions via le formulaire Inscription \, à renvoyer à l’adresse formations@academie-immo.lu 
URL:https://academie-immo.lu/event/techniques-de-construction-2/
LOCATION:Centre de formation Krakelshaff\, 448 ZAE Wolser F\, Bettembourg\, L-\, 3290\, Luxembourg
CATEGORIES:Agenda
ATTACH;FMTTYPE=image/jpeg:https://academie-immo.lu/wp-content/uploads/2023/05/housebuilding-g5e92dfc74_1280.jpg
END:VEVENT
BEGIN:VEVENT
DTSTART;TZID=Europe/Paris:20240405T083000
DTEND;TZID=Europe/Paris:20240405T123000
DTSTAMP:20260421T070418
CREATED:20231102T102834Z
LAST-MODIFIED:20231102T105105Z
UID:3432-1712305800-1712320200@academie-immo.lu
SUMMARY:Cadastre vertical / lecture de plans
DESCRIPTION:  \nVous trouverez le descriptif de la formation ICI . \nInscriptions via le formulaire Inscription \, à renvoyer à l’adresse formations@academie-immo.lu 
URL:https://academie-immo.lu/event/cadastre-vertical-lecture-de-plans/
LOCATION:Centre de formation Krakelshaff\, 448 ZAE Wolser F\, Bettembourg\, L-\, 3290\, Luxembourg
CATEGORIES:Agenda
ATTACH;FMTTYPE=image/jpeg:https://academie-immo.lu/wp-content/uploads/2022/06/pedro-miranda-3QzMBrvCeyQ-unsplash-scaled.jpg
END:VEVENT
BEGIN:VEVENT
DTSTART;TZID=Europe/Paris:20240404T083000
DTEND;TZID=Europe/Paris:20240404T123000
DTSTAMP:20260421T070418
CREATED:20231102T102653Z
LAST-MODIFIED:20240705T125404Z
UID:3430-1712219400-1712233800@academie-immo.lu
SUMMARY:Fiscalité de l’Immobilier - FORMATION COMPLÈTE
DESCRIPTION:  \nVous trouverez le descriptif de la formation ICI . \nInscriptions via le formulaire Inscription \, à renvoyer à l’adresse formations@academie-immo.lu 
URL:https://academie-immo.lu/event/fiscalite-de-limmobilier/
LOCATION:Centre de formation Krakelshaff\, 448 ZAE Wolser F\, Bettembourg\, L-\, 3290\, Luxembourg
CATEGORIES:Agenda
ATTACH;FMTTYPE=image/jpeg:https://academie-immo.lu/wp-content/uploads/2023/08/image.jpeg
END:VEVENT
BEGIN:VEVENT
DTSTART;TZID=Europe/Paris:20240329T083000
DTEND;TZID=Europe/Paris:20240329T123000
DTSTAMP:20260421T070418
CREATED:20240206T141649Z
LAST-MODIFIED:20240206T141827Z
UID:3546-1711701000-1711715400@academie-immo.lu
SUMMARY:Les erreurs à ne pas faire en immobilier
DESCRIPTION:  \nVous trouverez le descriptif de la formation ICI . \n  \nInscriptions via le formulaire Inscription \, à renvoyer à l’adresse formations@academie-immo.lu 
URL:https://academie-immo.lu/event/les-erreurs-a-ne-pas-faire-en-immobilier/
LOCATION:Centre de formation Krakelshaff\, 448 ZAE Wolser F\, Bettembourg\, L-\, 3290\, Luxembourg
CATEGORIES:Agenda
ATTACH;FMTTYPE=image/jpeg:https://academie-immo.lu/wp-content/uploads/2024/02/9276433.jpg
END:VEVENT
BEGIN:VEVENT
DTSTART;TZID=Europe/Paris:20240328T083000
DTEND;TZID=Europe/Paris:20240328T123000
DTSTAMP:20260421T070418
CREATED:20240110T092052Z
LAST-MODIFIED:20240110T092052Z
UID:3535-1711614600-1711629000@academie-immo.lu
SUMMARY:Négociation commerciale
DESCRIPTION:  \nVous trouverez le descriptif de la formation ICI . \n  \nInscriptions via le formulaire Inscription \, à renvoyer à l’adresse formations@academie-immo.lu 
URL:https://academie-immo.lu/event/negociation-commerciale/
LOCATION:Centre de formation Krakelshaff\, 448 ZAE Wolser F\, Bettembourg\, L-\, 3290\, Luxembourg
CATEGORIES:Agenda
ATTACH;FMTTYPE=image/jpeg:https://academie-immo.lu/wp-content/uploads/2023/05/feedback-g5ab0aca8c_1280.jpg
END:VEVENT
BEGIN:VEVENT
DTSTART;TZID=Europe/Paris:20240313T080000
DTEND;TZID=Europe/Paris:20240313T163000
DTSTAMP:20260421T070418
CREATED:20231114T103306Z
LAST-MODIFIED:20231114T104640Z
UID:3505-1710316800-1710347400@academie-immo.lu
SUMMARY:Gérer le détachement des salariés
DESCRIPTION:Vous trouverez le descriptif de la formation ICI . \nInscriptions via le formulaire Inscription \, à renvoyer à l’adresse formations@academie-immo.lu 
URL:https://academie-immo.lu/event/gerer-le-detachement-des-salaries/
LOCATION:Centre de formation Krakelshaff\, 448 ZAE Wolser F\, Bettembourg\, L-\, 3290\, Luxembourg
CATEGORIES:Agenda
END:VEVENT
END:VCALENDAR