BEGIN:VCALENDAR
VERSION:2.0
PRODID:-//Académie de l&#039;immobilier - ECPv6.2.5//NONSGML v1.0//EN
CALSCALE:GREGORIAN
METHOD:PUBLISH
X-ORIGINAL-URL:https://academie-immo.lu
X-WR-CALDESC:Events for Académie de l&#039;immobilier
REFRESH-INTERVAL;VALUE=DURATION:PT1H
X-Robots-Tag:noindex
X-PUBLISHED-TTL:PT1H
BEGIN:VTIMEZONE
TZID:Europe/Paris
BEGIN:DAYLIGHT
TZOFFSETFROM:+0100
TZOFFSETTO:+0200
TZNAME:CEST
DTSTART:20240331T010000
END:DAYLIGHT
BEGIN:STANDARD
TZOFFSETFROM:+0200
TZOFFSETTO:+0100
TZNAME:CET
DTSTART:20241027T010000
END:STANDARD
END:VTIMEZONE
BEGIN:VEVENT
DTSTART;TZID=Europe/Paris:20241212T080000
DTEND;TZID=Europe/Paris:20241213T163000
DTSTAMP:20260420T235224
CREATED:20240329T135439Z
LAST-MODIFIED:20240403T125110Z
UID:3630-1733990400-1734107400@academie-immo.lu
SUMMARY:Dirigeant et chef d'entreprise : les fondamentaux des RH
DESCRIPTION:Vous trouverez le descriptif de la formation ICI . \nInscriptions via le formulaire Inscription \, à renvoyer à l’adresse formations@academie-immo.lu  \n\nNote : cette formation n’est pas dispensée par l’Académie de l’immobilier et nécessite une prise en charge spécifique.\nLes inscriptions sont soumises à validation et seront traitées sur demande pour les membres cotisants.
URL:https://academie-immo.lu/event/dirigeant-et-chef-dentreprise-les-fondamentaux-des-rh/
LOCATION:Centre de formation Krakelshaff\, 448 ZAE Wolser F\, Bettembourg\, L-\, 3290\, Luxembourg
CATEGORIES:Agenda
ATTACH;FMTTYPE=image/jpeg:https://academie-immo.lu/wp-content/uploads/2024/03/25072174_2201_w039_n003_88b_p1_88-scaled.jpg
END:VEVENT
BEGIN:VEVENT
DTSTART;TZID=Europe/Paris:20241213T083000
DTEND;TZID=Europe/Paris:20241213T170000
DTSTAMP:20260420T235224
CREATED:20240724T070850Z
LAST-MODIFIED:20240724T072027Z
UID:3796-1734078600-1734109200@academie-immo.lu
SUMMARY:Comprendre et pratiquer les réseaux sociaux
DESCRIPTION:Vous trouverez le descriptif de la formation ICI . \nInscriptions via le formulaire Inscription \, à renvoyer à l’adresse formations@academie-immo.lu 
URL:https://academie-immo.lu/event/comprendre-et-pratiquer-les-reseaux-sociaux-2/
LOCATION:Centre de formation Krakelshaff\, 448 ZAE Wolser F\, Bettembourg\, L-\, 3290\, Luxembourg
CATEGORIES:Agenda
ATTACH;FMTTYPE=image/png:https://academie-immo.lu/wp-content/uploads/2024/03/Capture-decran-2024-03-22-a-13.29.48.png
END:VEVENT
BEGIN:VEVENT
DTSTART;TZID=Europe/Paris:20241217T083000
DTEND;TZID=Europe/Paris:20241217T170000
DTSTAMP:20260420T235224
CREATED:20240724T071426Z
LAST-MODIFIED:20240724T071426Z
UID:3800-1734424200-1734454800@academie-immo.lu
SUMMARY:Module Wordpress
DESCRIPTION:Inscriptions via le formulaire Inscription \, à renvoyer à l’adresse formations@academie-immo.lu 
URL:https://academie-immo.lu/event/module-wordpress/
LOCATION:Centre de formation Krakelshaff\, 448 ZAE Wolser F\, Bettembourg\, L-\, 3290\, Luxembourg
CATEGORIES:Agenda
ATTACH;FMTTYPE=image/png:https://academie-immo.lu/wp-content/uploads/2024/07/image.png
END:VEVENT
BEGIN:VEVENT
DTSTART;TZID=Europe/Paris:20241218T083000
DTEND;TZID=Europe/Paris:20241218T170000
DTSTAMP:20260420T235224
CREATED:20240724T071901Z
LAST-MODIFIED:20240724T071901Z
UID:3804-1734510600-1734541200@academie-immo.lu
SUMMARY:Newsletters et mailings
DESCRIPTION:Inscriptions via le formulaire Inscription \, à renvoyer à l’adresse formations@academie-immo.lu 
URL:https://academie-immo.lu/event/newsletters-et-mailings/
LOCATION:Centre de formation Krakelshaff\, 448 ZAE Wolser F\, Bettembourg\, L-\, 3290\, Luxembourg
CATEGORIES:Agenda
ATTACH;FMTTYPE=image/jpeg:https://academie-immo.lu/wp-content/uploads/2024/07/image-2.jpeg
END:VEVENT
END:VCALENDAR