BEGIN:VCALENDAR
VERSION:2.0
PRODID:-//Académie de l&#039;immobilier - ECPv6.2.5//NONSGML v1.0//EN
CALSCALE:GREGORIAN
METHOD:PUBLISH
X-WR-CALNAME:Académie de l&#039;immobilier
X-ORIGINAL-URL:https://academie-immo.lu
X-WR-CALDESC:Events for Académie de l&#039;immobilier
REFRESH-INTERVAL;VALUE=DURATION:PT1H
X-Robots-Tag:noindex
X-PUBLISHED-TTL:PT1H
BEGIN:VTIMEZONE
TZID:Europe/Paris
BEGIN:DAYLIGHT
TZOFFSETFROM:+0100
TZOFFSETTO:+0200
TZNAME:CEST
DTSTART:20240331T010000
END:DAYLIGHT
BEGIN:STANDARD
TZOFFSETFROM:+0200
TZOFFSETTO:+0100
TZNAME:CET
DTSTART:20241027T010000
END:STANDARD
END:VTIMEZONE
BEGIN:VEVENT
DTSTART;TZID=Europe/Paris:20241003T123000
DTEND;TZID=Europe/Paris:20241003T163000
DTSTAMP:20260420T233706
CREATED:20240329T101514Z
LAST-MODIFIED:20240705T130247Z
UID:3594-1727958600-1727973000@academie-immo.lu
SUMMARY:Négociation commerciale
DESCRIPTION:  \nVous trouverez le descriptif de la formation ICI . \nInscriptions via le formulaire Inscription \, à renvoyer à l’adresse formations@academie-immo.lu 
URL:https://academie-immo.lu/event/negociation-commerciale-2/
LOCATION:Centre de formation Krakelshaff\, 448 ZAE Wolser F\, Bettembourg\, L-\, 3290\, Luxembourg
CATEGORIES:Agenda
ATTACH;FMTTYPE=image/jpeg:https://academie-immo.lu/wp-content/uploads/2023/05/feedback-g5ab0aca8c_1280.jpg
END:VEVENT
BEGIN:VEVENT
DTSTART;TZID=Europe/Paris:20241004T083000
DTEND;TZID=Europe/Paris:20241004T123000
DTSTAMP:20260420T233706
CREATED:20240329T101808Z
LAST-MODIFIED:20240329T101808Z
UID:3597-1728030600-1728045000@academie-immo.lu
SUMMARY:Contrats / Mandats
DESCRIPTION:  \nVous trouverez le descriptif de la formation ICI . \nInscriptions via le formulaire Inscription \, à renvoyer à l’adresse formations@academie-immo.lu 
URL:https://academie-immo.lu/event/contrats-mandats/
LOCATION:Centre de formation Krakelshaff\, 448 ZAE Wolser F\, Bettembourg\, L-\, 3290\, Luxembourg
CATEGORIES:Agenda
ATTACH;FMTTYPE=image/jpeg:https://academie-immo.lu/wp-content/uploads/2023/11/student-849825_1280.jpg
END:VEVENT
BEGIN:VEVENT
DTSTART;TZID=Europe/Paris:20241004T130000
DTEND;TZID=Europe/Paris:20241004T170000
DTSTAMP:20260420T233706
CREATED:20240322T143436Z
LAST-MODIFIED:20240702T075249Z
UID:3572-1728046800-1728061200@academie-immo.lu
SUMMARY:Création de contenu pour les réseaux sociaux
DESCRIPTION:  \nVous trouverez le descriptif de la formation ICI . \n  \nInscriptions via le formulaire Inscription \, à renvoyer à l’adresse formations@academie-immo.lu 
URL:https://academie-immo.lu/event/creation-de-contenu-pour-les-reseaux-sociaux/
LOCATION:Centre de formation Krakelshaff\, 448 ZAE Wolser F\, Bettembourg\, L-\, 3290\, Luxembourg
CATEGORIES:Agenda
ATTACH;FMTTYPE=image/png:https://academie-immo.lu/wp-content/uploads/2024/03/Capture-decran-2024-03-22-a-13.29.48.png
END:VEVENT
BEGIN:VEVENT
DTSTART;TZID=Europe/Paris:20241009T083000
DTEND;TZID=Europe/Paris:20241009T170000
DTSTAMP:20260420T233706
CREATED:20240329T102029Z
LAST-MODIFIED:20240329T102029Z
UID:3599-1728462600-1728493200@academie-immo.lu
SUMMARY:Maisons Passives
DESCRIPTION:Vous trouverez le descriptif de la formation ICI . \nInscriptions via le formulaire Inscription \, à renvoyer à l’adresse formations@academie-immo.lu 
URL:https://academie-immo.lu/event/maisons-passives/
LOCATION:Centre de formation Krakelshaff\, 448 ZAE Wolser F\, Bettembourg\, L-\, 3290\, Luxembourg
CATEGORIES:Agenda
ATTACH;FMTTYPE=image/jpeg:https://academie-immo.lu/wp-content/uploads/2017/02/sungrow-emea-itv-MC5S6cU-unsplash-scaled.jpg
END:VEVENT
BEGIN:VEVENT
DTSTART;TZID=Europe/Paris:20241010T080000
DTEND;TZID=Europe/Paris:20241010T120000
DTSTAMP:20260420T233706
CREATED:20240605T070806Z
LAST-MODIFIED:20240705T130332Z
UID:3697-1728547200-1728561600@academie-immo.lu
SUMMARY:Introduction - Certification WELL Building
DESCRIPTION:  \nVous trouverez le descriptif de la formation ICI . \nInscriptions via le formulaire Inscription \, à renvoyer à l’adresse formations@academie-immo.lu 
URL:https://academie-immo.lu/event/introduction-certification-well-building/
LOCATION:Centre de formation Krakelshaff\, 448 ZAE Wolser F\, Bettembourg\, L-\, 3290\, Luxembourg
CATEGORIES:Agenda
ATTACH;FMTTYPE=image/jpeg:https://academie-immo.lu/wp-content/uploads/2022/06/image-3.jpeg
END:VEVENT
BEGIN:VEVENT
DTSTART;TZID=Europe/Paris:20241010T080000
DTEND;TZID=Europe/Paris:20241010T170000
DTSTAMP:20260420T233706
CREATED:20240702T063546Z
LAST-MODIFIED:20240705T125236Z
UID:3720-1728547200-1728579600@academie-immo.lu
SUMMARY:Kommunikation in schwierigen Situationen
DESCRIPTION:Die Beschreibung des Kurses finden Sie HIER. \nAnmeldungen über das Anmeldeformular\, bitte an die Adresse formations@academie-immo.lu zurücksenden \n  \n 
URL:https://academie-immo.lu/event/in-schwierigen-situationen-kommunizieren/
LOCATION:Startlokal\, 20\, rue Fridhaff\, Erpeldange-sur-Sûre\, L-9148\, Luxembourg
CATEGORIES:Agenda
ATTACH;FMTTYPE=image/jpeg:https://academie-immo.lu/wp-content/uploads/2023/05/image-2.jpeg
END:VEVENT
BEGIN:VEVENT
DTSTART;TZID=Europe/Paris:20241010T123000
DTEND;TZID=Europe/Paris:20241010T163000
DTSTAMP:20260420T233706
CREATED:20240329T102259Z
LAST-MODIFIED:20240329T102259Z
UID:3601-1728563400-1728577800@academie-immo.lu
SUMMARY:Le contrat de bail de bureaux
DESCRIPTION:Vous trouverez le descriptif de la formation ICI . \nInscriptions via le formulaire Inscription \, à renvoyer à l’adresse formations@academie-immo.lu 
URL:https://academie-immo.lu/event/le-contrat-de-bail-de-bureaux-2/
LOCATION:Centre de formation Krakelshaff\, 448 ZAE Wolser F\, Bettembourg\, L-\, 3290\, Luxembourg
CATEGORIES:Agenda
ATTACH;FMTTYPE=image/jpeg:https://academie-immo.lu/wp-content/uploads/2022/06/van-tay-media-TFFn3BYLc5s-unsplash-scaled.jpg
END:VEVENT
BEGIN:VEVENT
DTSTART;TZID=Europe/Paris:20241011T080000
DTEND;TZID=Europe/Paris:20241011T120000
DTSTAMP:20260420T233706
CREATED:20240329T103045Z
LAST-MODIFIED:20240605T130631Z
UID:3607-1728633600-1728648000@academie-immo.lu
SUMMARY:Cadastre vertical / Lecture de plans
DESCRIPTION:  \nVous trouverez le descriptif de la formation ICI . \nInscriptions via le formulaire Inscription \, à renvoyer à l’adresse formations@academie-immo.lu 
URL:https://academie-immo.lu/event/cadastre-vertical-lecture-de-plans-2/
LOCATION:Centre de formation Krakelshaff\, 448 ZAE Wolser F\, Bettembourg\, L-\, 3290\, Luxembourg
CATEGORIES:Agenda
ATTACH;FMTTYPE=image/jpeg:https://academie-immo.lu/wp-content/uploads/2022/06/pedro-miranda-3QzMBrvCeyQ-unsplash-scaled.jpg
END:VEVENT
BEGIN:VEVENT
DTSTART;TZID=Europe/Paris:20241011T083000
DTEND;TZID=Europe/Paris:20241011T123000
DTSTAMP:20260420T233706
CREATED:20240709T111459Z
LAST-MODIFIED:20240709T111459Z
UID:3790-1728635400-1728649800@academie-immo.lu
SUMMARY:Vices et vices cachés dans l'immobilier
DESCRIPTION:Vous trouverez le descriptif de la formation ICI . \nInscriptions via le formulaire Inscription \, à renvoyer à l’adresse formations@academie-immo.lu 
URL:https://academie-immo.lu/event/vices-et-vices-caches-dans-limmobilier/
LOCATION:Centre de formation Krakelshaff\, 448 ZAE Wolser F\, Bettembourg\, L-\, 3290\, Luxembourg
CATEGORIES:Agenda
ATTACH;FMTTYPE=image/jpeg:https://academie-immo.lu/wp-content/uploads/2024/07/image-1.jpeg
END:VEVENT
BEGIN:VEVENT
DTSTART;TZID=Europe/Paris:20241011T123000
DTEND;TZID=Europe/Paris:20241011T163000
DTSTAMP:20260420T233706
CREATED:20240329T103503Z
LAST-MODIFIED:20240605T130654Z
UID:3609-1728649800-1728664200@academie-immo.lu
SUMMARY:Types de bâtisses / Défauts de construction
DESCRIPTION:  \nVous trouverez le descriptif de la formation ICI . \nInscriptions via le formulaire Inscription \, à renvoyer à l’adresse formations@academie-immo.lu 
URL:https://academie-immo.lu/event/types-de-batisses-defauts-de-construction-2/
LOCATION:Centre de formation Krakelshaff\, 448 ZAE Wolser F\, Bettembourg\, L-\, 3290\, Luxembourg
CATEGORIES:Agenda
ATTACH;FMTTYPE=image/jpeg:https://academie-immo.lu/wp-content/uploads/2022/05/daniel-mccullough-HtBlQdxfG9k-unsplash-scaled.jpg
END:VEVENT
BEGIN:VEVENT
DTSTART;TZID=Europe/Paris:20241015T083000
DTEND;TZID=Europe/Paris:20241015T170000
DTSTAMP:20260420T233706
CREATED:20240328T142607Z
LAST-MODIFIED:20240828T125240Z
UID:3582-1728981000-1729011600@academie-immo.lu
SUMMARY:Techniques de construction
DESCRIPTION:  \nVous trouverez le descriptif de la formation ICI . \nInscriptions via le formulaire Inscription \, à renvoyer à l’adresse formations@academie-immo.lu 
URL:https://academie-immo.lu/event/techniques-de-construction/
LOCATION:Centre de formation Krakelshaff\, 448 ZAE Wolser F\, Bettembourg\, L-\, 3290\, Luxembourg
CATEGORIES:Agenda
ATTACH;FMTTYPE=image/jpeg:https://academie-immo.lu/wp-content/uploads/2023/05/housebuilding-g5e92dfc74_1280.jpg
END:VEVENT
BEGIN:VEVENT
DTSTART;TZID=Europe/Paris:20241016T123000
DTEND;TZID=Europe/Paris:20241016T163000
DTSTAMP:20260420T233706
CREATED:20240329T102632Z
LAST-MODIFIED:20240329T102632Z
UID:3603-1729081800-1729096200@academie-immo.lu
SUMMARY:Droit de la copropriété : organisation juridique
DESCRIPTION:  \nVous trouverez le descriptif de la formation ICI . \nInscriptions via le formulaire Inscription \, à renvoyer à l’adresse formations@academie-immo.lu 
URL:https://academie-immo.lu/event/droit-de-la-copropriete-organisation-juridique-2/
LOCATION:Centre de formation Krakelshaff\, 448 ZAE Wolser F\, Bettembourg\, L-\, 3290\, Luxembourg
CATEGORIES:Agenda
ATTACH;FMTTYPE=image/jpeg:https://academie-immo.lu/wp-content/uploads/2022/06/mikhail-pavstyuk-EKy2OTRPXdw-unsplash.jpg
END:VEVENT
BEGIN:VEVENT
DTSTART;TZID=Europe/Paris:20241017T083000
DTEND;TZID=Europe/Paris:20241017T123000
DTSTAMP:20260420T233706
CREATED:20231102T101129Z
LAST-MODIFIED:20240329T132701Z
UID:3418-1729153800-1729168200@academie-immo.lu
SUMMARY:Droit de la copropriété : assemblées et règles de majorité
DESCRIPTION:  \nVous trouverez le descriptif de la formation ICI . \nInscriptions via le formulaire Inscription \, à renvoyer à l’adresse formations@academie-immo.lu 
URL:https://academie-immo.lu/event/droit-de-la-copropriete-assemblees-et-regles-de-majorite/
LOCATION:Centre de formation Krakelshaff\, 448 ZAE Wolser F\, Bettembourg\, L-\, 3290\, Luxembourg
CATEGORIES:Agenda
ATTACH;FMTTYPE=image/jpeg:https://academie-immo.lu/wp-content/uploads/2022/06/gabrielle-henderson-HJckKnwCXxQ-unsplash-scaled.jpg
END:VEVENT
BEGIN:VEVENT
DTSTART;TZID=Europe/Paris:20241018T130000
DTEND;TZID=Europe/Paris:20241018T170000
DTSTAMP:20260420T233706
CREATED:20240329T102827Z
LAST-MODIFIED:20240729T113342Z
UID:3605-1729256400-1729270800@academie-immo.lu
SUMMARY:Étude de rentabilité
DESCRIPTION:  \nVous trouverez le descriptif de la formation ICI . \nInscriptions via le formulaire Inscription \, à renvoyer à l’adresse formations@academie-immo.lu 
URL:https://academie-immo.lu/event/etude-de-rentabilite/
LOCATION:Centre de formation Krakelshaff\, 448 ZAE Wolser F\, Bettembourg\, L-\, 3290\, Luxembourg
CATEGORIES:Agenda
ATTACH;FMTTYPE=image/jpeg:https://academie-immo.lu/wp-content/uploads/2022/06/mediamodifier-I3HPUolh5hA-unsplash-scaled.jpg
END:VEVENT
BEGIN:VEVENT
DTSTART;TZID=Europe/Paris:20241021T130000
DTEND;TZID=Europe/Paris:20241021T170000
DTSTAMP:20260420T233707
CREATED:20231102T102405Z
LAST-MODIFIED:20240613T124536Z
UID:3428-1729515600-1729530000@academie-immo.lu
SUMMARY:Les PAP et PAG
DESCRIPTION:  \nVous trouverez le descriptif de la formation ICI . \nInscriptions via le formulaire Inscription \, à renvoyer à l’adresse formations@academie-immo.lu 
URL:https://academie-immo.lu/event/pag_pap-nq-et-pap-qe/
LOCATION:Centre de formation Krakelshaff\, 448 ZAE Wolser F\, Bettembourg\, L-\, 3290\, Luxembourg
CATEGORIES:Agenda
ATTACH;FMTTYPE=image/jpeg:https://academie-immo.lu/wp-content/uploads/2022/06/mediamodifier-I3HPUolh5hA-unsplash-scaled.jpg
END:VEVENT
BEGIN:VEVENT
DTSTART;TZID=Europe/Paris:20241025T130000
DTEND;TZID=Europe/Paris:20241025T170000
DTSTAMP:20260420T233707
CREATED:20240430T122335Z
LAST-MODIFIED:20240430T122335Z
UID:3669-1729861200-1729875600@academie-immo.lu
SUMMARY:RGPD
DESCRIPTION:  \nVous trouverez le descriptif de la formation ICI . \nInscriptions via le formulaire Inscription \, à renvoyer à l’adresse formations@academie-immo.lu 
URL:https://academie-immo.lu/event/rgpd/
LOCATION:Centre de formation Krakelshaff\, 448 ZAE Wolser F\, Bettembourg\, L-\, 3290\, Luxembourg
CATEGORIES:Agenda
ATTACH;FMTTYPE=image/jpeg:https://academie-immo.lu/wp-content/uploads/2022/06/dan-nelson-ah-HeguOe9k-unsplash-scaled.jpg
END:VEVENT
BEGIN:VEVENT
DTSTART;TZID=Europe/Paris:20241030T080000
DTEND;TZID=Europe/Paris:20241031T163000
DTSTAMP:20260420T233707
CREATED:20240329T103700Z
LAST-MODIFIED:20240329T103700Z
UID:3611-1730275200-1730392200@academie-immo.lu
SUMMARY:Premiers Secours
DESCRIPTION:  \nVous trouverez le descriptif de la formation ICI . \nInscriptions via le formulaire Inscription \, à renvoyer à l’adresse formations@academie-immo.lu 
URL:https://academie-immo.lu/event/premiers-secours-3/
LOCATION:Centre de formation Krakelshaff\, 448 ZAE Wolser F\, Bettembourg\, L-\, 3290\, Luxembourg
CATEGORIES:Agenda
ATTACH;FMTTYPE=image/jpeg:https://academie-immo.lu/wp-content/uploads/2017/02/michel-e-fSO8pdTu8Pk-unsplash-scaled.jpg
END:VEVENT
END:VCALENDAR