BEGIN:VCALENDAR
VERSION:2.0
PRODID:-//Académie de l&#039;immobilier - ECPv6.2.5//NONSGML v1.0//EN
CALSCALE:GREGORIAN
METHOD:PUBLISH
X-ORIGINAL-URL:https://academie-immo.lu
X-WR-CALDESC:Events for Académie de l&#039;immobilier
REFRESH-INTERVAL;VALUE=DURATION:PT1H
X-Robots-Tag:noindex
X-PUBLISHED-TTL:PT1H
BEGIN:VTIMEZONE
TZID:Europe/Paris
BEGIN:DAYLIGHT
TZOFFSETFROM:+0100
TZOFFSETTO:+0200
TZNAME:CEST
DTSTART:20240331T010000
END:DAYLIGHT
BEGIN:STANDARD
TZOFFSETFROM:+0200
TZOFFSETTO:+0100
TZNAME:CET
DTSTART:20241027T010000
END:STANDARD
END:VTIMEZONE
BEGIN:VEVENT
DTSTART;TZID=Europe/Paris:20241105T090000
DTEND;TZID=Europe/Paris:20241105T120000
DTSTAMP:20260420T215442
CREATED:20240409T135411Z
LAST-MODIFIED:20240409T135411Z
UID:3658-1730797200-1730808000@academie-immo.lu
SUMMARY:Les règles de majorité dans les assemblées générales (module avancé)
DESCRIPTION:  \nVous trouverez le descriptif de la formation ICI . \nInscriptions via le formulaire Inscription \, à renvoyer à l’adresse formations@academie-immo.lu 
URL:https://academie-immo.lu/event/les-regles-de-majorite-dans-les-assemblees-generales-module-avance/
LOCATION:Centre de formation Krakelshaff\, 448 ZAE Wolser F\, Bettembourg\, L-\, 3290\, Luxembourg
CATEGORIES:Agenda
ATTACH;FMTTYPE=image/png:https://academie-immo.lu/wp-content/uploads/2024/04/education-5600987_1280.png
END:VEVENT
BEGIN:VEVENT
DTSTART;TZID=Europe/Paris:20241105T130000
DTEND;TZID=Europe/Paris:20241105T150000
DTSTAMP:20260420T215442
CREATED:20240409T135242Z
LAST-MODIFIED:20240409T135628Z
UID:3656-1730811600-1730818800@academie-immo.lu
SUMMARY:La gestion de l’assemblée générale des copropriétaires (module avancé)
DESCRIPTION:  \nVous trouverez le descriptif de la formation ICI . \nInscriptions via le formulaire Inscription \, à renvoyer à l’adresse formations@academie-immo.lu 
URL:https://academie-immo.lu/event/la-gestion-de-lassemblee-generale-des-coproprietaires-module-avance/
LOCATION:Centre de formation Krakelshaff\, 448 ZAE Wolser F\, Bettembourg\, L-\, 3290\, Luxembourg
CATEGORIES:Agenda
ATTACH;FMTTYPE=image/png:https://academie-immo.lu/wp-content/uploads/2024/04/group-1962592_1280.png
END:VEVENT
BEGIN:VEVENT
DTSTART;TZID=Europe/Paris:20241112T090000
DTEND;TZID=Europe/Paris:20241112T130000
DTSTAMP:20260420T215442
CREATED:20240329T134749Z
LAST-MODIFIED:20240705T125740Z
UID:3626-1731402000-1731416400@academie-immo.lu
SUMMARY:Déontologie professionnelle et conflits d’intérêts
DESCRIPTION:  \nVous trouverez le descriptif de la formation ICI . \nInscriptions via le formulaire Inscription \, à renvoyer à l’adresse formations@academie-immo.lu 
URL:https://academie-immo.lu/event/deontologie-professionnelle-et-conflits-dinterets-2/
LOCATION:Centre de formation Krakelshaff\, 448 ZAE Wolser F\, Bettembourg\, L-\, 3290\, Luxembourg
CATEGORIES:Agenda
ATTACH;FMTTYPE=image/png:https://academie-immo.lu/wp-content/uploads/2022/06/deontologie-pro-et-conflits-interets.png
END:VEVENT
BEGIN:VEVENT
DTSTART;TZID=Europe/Paris:20241113T130000
DTEND;TZID=Europe/Paris:20241113T170000
DTSTAMP:20260420T215442
CREATED:20240329T104409Z
LAST-MODIFIED:20240329T111220Z
UID:3613-1731502800-1731517200@academie-immo.lu
SUMMARY:Gestion et prévention des déchets en immeuble résidentiel
DESCRIPTION:  \nVous trouverez le descriptif de la formation ICI . \nInscriptions via le formulaire Inscription \, à renvoyer à l’adresse formations@academie-immo.lu 
URL:https://academie-immo.lu/event/gestion-et-prevention-des-dechets-en-immeuble-residentiel-2/
LOCATION:Centre de formation Krakelshaff\, 448 ZAE Wolser F\, Bettembourg\, L-\, 3290\, Luxembourg
CATEGORIES:Agenda
ATTACH;FMTTYPE=image/jpeg:https://academie-immo.lu/wp-content/uploads/2023/05/wheelie-bin-g275a9232d_1280.jpg
END:VEVENT
BEGIN:VEVENT
DTSTART;TZID=Europe/Paris:20241114T083000
DTEND;TZID=Europe/Paris:20241114T123000
DTSTAMP:20260420T215442
CREATED:20240530T093220Z
LAST-MODIFIED:20240530T093220Z
UID:3694-1731573000-1731587400@academie-immo.lu
SUMMARY:Risque électrique pour « personne ordinaire »
DESCRIPTION:  \nVous trouverez le descriptif de la formation ICI . \nInscriptions via le formulaire Inscription \, à renvoyer à l’adresse formations@academie-immo.lu 
URL:https://academie-immo.lu/event/risque-electrique-pour-personne-ordinaire/
LOCATION:Centre de formation Krakelshaff\, 448 ZAE Wolser F\, Bettembourg\, L-\, 3290\, Luxembourg
CATEGORIES:Agenda
ATTACH;FMTTYPE=image/jpeg:https://academie-immo.lu/wp-content/uploads/2024/05/Wavy_Cst-01_Single-05ok.jpeg
END:VEVENT
BEGIN:VEVENT
DTSTART;TZID=Europe/Paris:20241114T123000
DTEND;TZID=Europe/Paris:20241114T163000
DTSTAMP:20260420T215442
CREATED:20240329T105107Z
LAST-MODIFIED:20240329T105107Z
UID:3615-1731587400-1731601800@academie-immo.lu
SUMMARY:TVA logement ou taux super-réduit
DESCRIPTION:  \nVous trouverez le descriptif de la formation ICI . \nInscriptions via le formulaire Inscription \, à renvoyer à l’adresse formations@academie-immo.lu 
URL:https://academie-immo.lu/event/tva-logement-ou-taux-super-reduit-2/
LOCATION:Centre de formation Krakelshaff\, 448 ZAE Wolser F\, Bettembourg\, L-\, 3290\, Luxembourg
CATEGORIES:Agenda
ATTACH;FMTTYPE=image/jpeg:https://academie-immo.lu/wp-content/uploads/2022/06/scott-graham-OQMZwNd3ThU-unsplash-scaled.jpg
END:VEVENT
BEGIN:VEVENT
DTSTART;TZID=Europe/Paris:20241115T083000
DTEND;TZID=Europe/Paris:20241115T123000
DTSTAMP:20260420T215442
CREATED:20240329T105319Z
LAST-MODIFIED:20240329T105319Z
UID:3617-1731659400-1731673800@academie-immo.lu
SUMMARY:Le contrat de bail résidentiel
DESCRIPTION:  \nVous trouverez le descriptif de la formation ICI . \nInscriptions via le formulaire Inscription \, à renvoyer à l’adresse formations@academie-immo.lu 
URL:https://academie-immo.lu/event/le-contrat-de-bail-residentiel/
LOCATION:Centre de formation Krakelshaff\, 448 ZAE Wolser F\, Bettembourg\, L-\, 3290\, Luxembourg
CATEGORIES:Agenda
ATTACH;FMTTYPE=image/jpeg:https://academie-immo.lu/wp-content/uploads/2022/06/romain-dancre-doplSDELX7E-unsplash-scaled.jpg
END:VEVENT
BEGIN:VEVENT
DTSTART;TZID=Europe/Paris:20241119T080000
DTEND;TZID=Europe/Paris:20241120T163000
DTSTAMP:20260420T215442
CREATED:20240702T064128Z
LAST-MODIFIED:20240705T082656Z
UID:3722-1732003200-1732120200@academie-immo.lu
SUMMARY:Erste Hilfe
DESCRIPTION:Die Beschreibung des Kurses finden Sie HIER. \nAnmeldungen über das Anmeldeformular\, bitte an die Adresse formations@academie-immo.lu zurücksenden \n  \n  \n 
URL:https://academie-immo.lu/event/erste-hilfe/
LOCATION:Startlokal\, 20\, rue Fridhaff\, Erpeldange-sur-Sûre\, L-9148\, Luxembourg
CATEGORIES:Agenda
ATTACH;FMTTYPE=image/jpeg:https://academie-immo.lu/wp-content/uploads/2017/02/michel-e-fSO8pdTu8Pk-unsplash-scaled.jpg
END:VEVENT
BEGIN:VEVENT
DTSTART;TZID=Europe/Paris:20241121T083000
DTEND;TZID=Europe/Paris:20241121T170000
DTSTAMP:20260420T215442
CREATED:20240329T110345Z
LAST-MODIFIED:20240705T130644Z
UID:3619-1732177800-1732208400@academie-immo.lu
SUMMARY:Introduction à la gestion de projet
DESCRIPTION:  \nVous trouverez le descriptif de la formation ICI . \nInscriptions via le formulaire Inscription \, à renvoyer à l’adresse formations@academie-immo.lu 
URL:https://academie-immo.lu/event/introduction-a-la-gestion-de-projet-2/
LOCATION:Centre de formation Krakelshaff\, 448 ZAE Wolser F\, Bettembourg\, L-\, 3290\, Luxembourg
CATEGORIES:Agenda
ATTACH;FMTTYPE=image/jpeg:https://academie-immo.lu/wp-content/uploads/2023/05/office-g143d04d23_1280.jpg
END:VEVENT
BEGIN:VEVENT
DTSTART;TZID=Europe/Paris:20241122T130000
DTEND;TZID=Europe/Paris:20241122T170000
DTSTAMP:20260420T215442
CREATED:20231102T112030Z
LAST-MODIFIED:20240724T065217Z
UID:3447-1732280400-1732294800@academie-immo.lu
SUMMARY:Le marché immobilier résidentiel luxembourgeois – bilans et tendances
DESCRIPTION:  \nVous trouverez le descriptif de la formation ICI . \nInscriptions via le formulaire Inscription \, à renvoyer à l’adresse formations@academie-immo.lu 
URL:https://academie-immo.lu/event/le-marche-immobilier-residentiel-luxembourgeois-bilans-et-tendances/
LOCATION:Centre de formation Krakelshaff\, 448 ZAE Wolser F\, Bettembourg\, L-\, 3290\, Luxembourg
CATEGORIES:Agenda
ATTACH;FMTTYPE=image/jpeg:https://academie-immo.lu/wp-content/uploads/2022/06/lxrcbsv-vVHXeu0YNbk-unsplash.jpg
END:VEVENT
BEGIN:VEVENT
DTSTART;TZID=Europe/Paris:20241126T123000
DTEND;TZID=Europe/Paris:20241126T163000
DTSTAMP:20260420T215442
CREATED:20240329T110625Z
LAST-MODIFIED:20240329T110625Z
UID:3623-1732624200-1732638600@academie-immo.lu
SUMMARY:Les travaux dans la copropriété
DESCRIPTION:  \nVous trouverez le descriptif de la formation ICI . \nInscriptions via le formulaire Inscription \, à renvoyer à l’adresse formations@academie-immo.lu 
URL:https://academie-immo.lu/event/les-travaux-dans-la-copropriete/
LOCATION:Centre de formation Krakelshaff\, 448 ZAE Wolser F\, Bettembourg\, L-\, 3290\, Luxembourg
CATEGORIES:Agenda
ATTACH;FMTTYPE=image/jpeg:https://academie-immo.lu/wp-content/uploads/2023/05/housebuilding-g5e92dfc74_1280.jpg
END:VEVENT
BEGIN:VEVENT
DTSTART;TZID=Europe/Paris:20241129T130000
DTEND;TZID=Europe/Paris:20241129T170000
DTSTAMP:20260420T215442
CREATED:20231114T103533Z
LAST-MODIFIED:20240705T130746Z
UID:3509-1732885200-1732899600@academie-immo.lu
SUMMARY:Introduction aux risques AML / TF
DESCRIPTION:Vous trouverez le descriptif de la formation ICI . \nInscriptions via le formulaire Inscription \, à renvoyer à l’adresse formations@academie-immo.lu 
URL:https://academie-immo.lu/event/aml-tf-risques-et-obligations/
LOCATION:Centre de formation Krakelshaff\, 448 ZAE Wolser F\, Bettembourg\, L-\, 3290\, Luxembourg
CATEGORIES:Agenda
ATTACH;FMTTYPE=image/jpeg:https://academie-immo.lu/wp-content/uploads/2022/07/sasun-bughdaryan-eYoAbih_riY-unsplash-scaled.jpg
END:VEVENT
END:VCALENDAR